BEGIN:VCALENDAR
VERSION:2.0
PRODID:-//Misha&#039;s Flower Shop - ECPv6.15.20//NONSGML v1.0//EN
CALSCALE:GREGORIAN
METHOD:PUBLISH
X-ORIGINAL-URL:https://mishasflowershop.com
X-WR-CALDESC:Events for Misha&#039;s Flower Shop
REFRESH-INTERVAL;VALUE=DURATION:PT1H
X-Robots-Tag:noindex
X-PUBLISHED-TTL:PT1H
BEGIN:VTIMEZONE
TZID:America/New_York
BEGIN:DAYLIGHT
TZOFFSETFROM:-0500
TZOFFSETTO:-0400
TZNAME:EDT
DTSTART:20250309T070000
END:DAYLIGHT
BEGIN:STANDARD
TZOFFSETFROM:-0400
TZOFFSETTO:-0500
TZNAME:EST
DTSTART:20251102T060000
END:STANDARD
BEGIN:DAYLIGHT
TZOFFSETFROM:-0500
TZOFFSETTO:-0400
TZNAME:EDT
DTSTART:20260308T070000
END:DAYLIGHT
BEGIN:STANDARD
TZOFFSETFROM:-0400
TZOFFSETTO:-0500
TZNAME:EST
DTSTART:20261101T060000
END:STANDARD
BEGIN:DAYLIGHT
TZOFFSETFROM:-0500
TZOFFSETTO:-0400
TZNAME:EDT
DTSTART:20270314T070000
END:DAYLIGHT
BEGIN:STANDARD
TZOFFSETFROM:-0400
TZOFFSETTO:-0500
TZNAME:EST
DTSTART:20271107T060000
END:STANDARD
END:VTIMEZONE
BEGIN:VEVENT
DTSTART;TZID=America/New_York:20260423T120000
DTEND;TZID=America/New_York:20260423T150000
DTSTAMP:20260419T183434
CREATED:20260416T151419Z
LAST-MODIFIED:20260416T152541Z
UID:489-1776945600-1776956400@mishasflowershop.com
SUMMARY:Aeterna Cannabis In-Store Showcase at Misha's Flower Shop Brooklyn - April 23rd
DESCRIPTION:Join us on April 23rd\, 2026 from 12pm-3pm from to as Aeterna brings their cannabis collection to Misha’s Flower Shop in Brooklyn. This in-store vendor event showcases Aeterna’s carefully curated flower selection\, accessories\, and pre-rolls – products born from their unique brand philosophy and community-focused approach. Aeterna represents a new generation of cannabis cultivators who understand that quality comes from passion and authenticity\, not just cultivation techniques. Their team will be on-site to share the stories behind their strains\, discuss their growing practices\, and help you discover products that align with your cannabis journey. This is your chance to connect directly with the people behind the brand\, learn about their commitment to the cannabis community\, and explore their diverse product lineup in person. Whether you’re curious about their flower varieties\, interested in their accessory collection\, or looking to try their pre-rolls\, the Aeterna team will guide you through their offerings with genuine expertise and enthusiasm. Don’t miss this opportunity to discover what makes Aeterna special in Brooklyn’s vibrant cannabis scene. Follow Aeterna on Instagram for updates and behind-the-scenes content. \n \n\nAbout Misha’s Flower Shop: \nOpen Daily 9am-11pm 299 Knickerbocker Ave. Brooklyn\, NY 11237 \nFree Cannabis Delivery \nMisha’s Flower Shop is a Licensed Cannabis Dispensary proudly serving our neighbors in Brooklyn 21 and over. Thanks to the ongoing work of cannabis activists\, community members\, and the New York Office of Cannabis Management\, Misha’s opened its doors in May of 2024\, becoming one of the first\, and largest\, licensed dispensaries in the borough. With a 2500 square foot storefront in the heart of Bushwick and over 1100 products to choose from\, Misha’s can help you find just the right product for your needs. \nAlthough the Flower Shop itself may be new\, the founders are long-time cannabis connoisseurs\, as well as strong advocates for cannabis legalization and restorative justice. At Misha’s we believe that the healing and connecting power of the plant is unmatched\, and it continues to be a guiding light for all of us. We believe in both the medicinal and recreational uses of legal cannabis\, and are committed to sharing our knowledge and expertise with the community. We offer fast delivery in many parts of Brooklyn for a low minimum cart. Join us for our In-Store Vendor Event at Misha’s Flower Shop\, where we will showcase premium rosin and vapes\, reflecting our commitment to excellence in cannabis products. We invite you to explore our carefully curated selection\, designed to enhance both medicinal and recreational experiences for our valued customers.
URL:https://mishasflowershop.com/event/aeterna-cannabis-in-store-showcase-at-mishas-flower-shop-brooklyn-april-23rd/
LOCATION:Misha’s Flower Shop Bushwick\, 299 Knickerbocker Ave.\, Brooklyn\, NY\, 11237\, United States
ATTACH;FMTTYPE=image/jpeg:https://mishasflowershop.com/wp-content/uploads/2026/04/vendor-logo.jpg
END:VEVENT
END:VCALENDAR