BEGIN:VCALENDAR
VERSION:2.0
PRODID:-//Misha&#039;s Flower Shop - ECPv6.15.20//NONSGML v1.0//EN
CALSCALE:GREGORIAN
METHOD:PUBLISH
X-WR-CALNAME:Misha&#039;s Flower Shop
X-ORIGINAL-URL:https://mishasflowershop.com
X-WR-CALDESC:Events for Misha&#039;s Flower Shop
REFRESH-INTERVAL;VALUE=DURATION:PT1H
X-Robots-Tag:noindex
X-PUBLISHED-TTL:PT1H
BEGIN:VTIMEZONE
TZID:America/New_York
BEGIN:DAYLIGHT
TZOFFSETFROM:-0500
TZOFFSETTO:-0400
TZNAME:EDT
DTSTART:20250309T070000
END:DAYLIGHT
BEGIN:STANDARD
TZOFFSETFROM:-0400
TZOFFSETTO:-0500
TZNAME:EST
DTSTART:20251102T060000
END:STANDARD
BEGIN:DAYLIGHT
TZOFFSETFROM:-0500
TZOFFSETTO:-0400
TZNAME:EDT
DTSTART:20260308T070000
END:DAYLIGHT
BEGIN:STANDARD
TZOFFSETFROM:-0400
TZOFFSETTO:-0500
TZNAME:EST
DTSTART:20261101T060000
END:STANDARD
BEGIN:DAYLIGHT
TZOFFSETFROM:-0500
TZOFFSETTO:-0400
TZNAME:EDT
DTSTART:20270314T070000
END:DAYLIGHT
BEGIN:STANDARD
TZOFFSETFROM:-0400
TZOFFSETTO:-0500
TZNAME:EST
DTSTART:20271107T060000
END:STANDARD
END:VTIMEZONE
BEGIN:VEVENT
DTSTART;TZID=America/New_York:20260417T160000
DTEND;TZID=America/New_York:20260417T180000
DTSTAMP:20260419T183252
CREATED:20260416T152602Z
LAST-MODIFIED:20260416T152602Z
UID:492-1776441600-1776448800@mishasflowershop.com
SUMMARY:Curaleaf Vendor Showcase: Grassroots Flower & Anthem Prerolls at Misha's
DESCRIPTION:Join us on April 17th\, 2026 from to as Curaleaf brings their community-focused cannabis expertise to Misha’s Flower Shop. As one of the pioneering forces in cannabis normalization\, Curaleaf has built their reputation on making quality cannabis accessible to diverse communities across the country. Their commitment to breaking down barriers and creating inclusive spaces aligns perfectly with Brooklyn’s progressive cannabis culture. This exclusive vendor event showcases two standout product lines: Grassroots flower\, known for their artisanal cultivation methods and strain diversity\, and Anthem prerolls\, crafted for convenience without compromising quality. Take advantage of incredible deals including any 2 Grassroots 3.5g packages for just $65\, any 2 Grassroots 7g packages for $70\, plus 25% off all Anthem products. Curaleaf’s team will be on-site to share their knowledge about cultivation techniques\, strain profiles\, and their ongoing advocacy work in cannabis reform. Whether you’re exploring new strains or stocking up on favorites\, this event offers the perfect opportunity to connect with a brand that’s genuinely invested in community education and cannabis accessibility. Follow Curaleaf on Instagram for updates. \n \n\nAbout Misha’s Flower Shop: \nOpen Daily 9am-11pm 299 Knickerbocker Ave. Brooklyn\, NY 11237 \nFree Cannabis Delivery \nMisha’s Flower Shop is a Licensed Cannabis Dispensary proudly serving our neighbors in Brooklyn 21 and over. Thanks to the ongoing work of cannabis activists\, community members\, and the New York Office of Cannabis Management\, Misha’s opened its doors in May of 2024\, becoming one of the first\, and largest\, licensed dispensaries in the borough. With a 2500 square foot storefront in the heart of Bushwick and over 1100 products to choose from\, Misha’s can help you find just the right product for your needs. \nAlthough the Flower Shop itself may be new\, the founders are long-time cannabis connoisseurs\, as well as strong advocates for cannabis legalization and restorative justice. At Misha’s we believe that the healing and connecting power of the plant is unmatched\, and it continues to be a guiding light for all of us. We believe in both the medicinal and recreational uses of legal cannabis\, and are committed to sharing our knowledge and expertise with the community. We offer fast delivery in many parts of Brooklyn for a low minimum cart. Join us for our In-Store Vendor Event at Misha’s Flower Shop\, where we will showcase premium rosin and vapes\, reflecting our commitment to excellence in cannabis products. We invite you to explore our carefully curated selection\, designed to enhance both medicinal and recreational experiences for our valued customers.
URL:https://mishasflowershop.com/event/curaleaf-vendor-showcase-grassroots-flower-anthem-prerolls-at-mishas/
LOCATION:Misha’s Flower Shop Bushwick\, 299 Knickerbocker Ave.\, Brooklyn\, NY\, 11237\, United States
ATTACH;FMTTYPE=image/png:https://mishasflowershop.com/wp-content/uploads/2026/04/vendor-logo-2.png
END:VEVENT
BEGIN:VEVENT
DTSTART;TZID=America/New_York:20260418T120000
DTEND;TZID=America/New_York:20260418T150000
DTSTAMP:20260419T183252
CREATED:20260415T162145Z
LAST-MODIFIED:20260415T162145Z
UID:482-1776513600-1776524400@mishasflowershop.com
SUMMARY:Revert/Golden Garden In-Store Vendor Event at Misha's Flower Shop Brooklyn
DESCRIPTION:Join us on April 18th\, 2026 for an exclusive in-store vendor event featuring Revert/Golden Garden at Misha’s Flower Shop. While most Brooklyn cannabis enthusiasts know Revert for their signature prerolls\, this event showcases their full range including lesser-known products and exciting new edibles (pending arrival – but trust us\, they’ve got plenty of other fresh drops to share). Revert/Golden Garden brings their authentic Brooklyn roots and community-first approach directly to our Flatbush location. Take advantage of two incredible promotions: 15% off their entire lineup\, or grab 4 Revert eighths for $20 each plus 4 Golden Garden eighths for $30 each – your choice for maximum savings. This is your chance to explore beyond the prerolls and discover what makes these local favorites a cornerstone of Brooklyn’s cannabis culture. Whether you’re curious about their expanding product line or want to stock up on classics\, our team and the Revert/Golden Garden crew will be here to guide your selections. Follow Revert / Golden Garden on Instagram for the latest updates. Don’t miss this opportunity to connect with one of Brooklyn’s most authentic cannabis brands. \n \n\n 
URL:https://mishasflowershop.com/event/revert-golden-garden-in-store-vendor-event-at-mishas-flower-shop-brooklyn/
LOCATION:Misha’s Flower Shop Bushwick\, 299 Knickerbocker Ave.\, Brooklyn\, NY\, 11237\, United States
ATTACH;FMTTYPE=image/png:https://mishasflowershop.com/wp-content/uploads/2026/04/vendor-logo-1-scaled.png
END:VEVENT
BEGIN:VEVENT
DTSTART;TZID=America/New_York:20260418T150000
DTEND;TZID=America/New_York:20260418T190000
DTSTAMP:20260419T183252
CREATED:20260415T190626Z
LAST-MODIFIED:20260415T190626Z
UID:486-1776524400-1776538800@mishasflowershop.com
SUMMARY:Weedcyclers Pre-Earth Day Event: Recycled Bags from Ayrloom Packages at Misha's
DESCRIPTION:Join us on April 18th\, 2026 for a special pre-Earth Day celebration with Weedcyclers / Ayrloom at Misha’s Flower Shop. This isn’t your typical vendor event – Weedcyclers is bringing their revolutionary sustainability mission straight to Brooklyn\, turning cannabis waste into community action. They’ll be showcasing and giving away unique recycled bags made entirely from used Ayrloom gummy packages\, proving that cannabis culture and environmental responsibility go hand in hand. This grassroots initiative embodies their philosophy of ‘picking up the community one bag at a time\,’ transforming what would be waste into functional\, eco-friendly accessories. Meet the team behind this innovative recycling program and learn how they’re reimagining the cannabis industry’s relationship with the environment. These limited-edition bags represent more than just sustainability – they’re a statement about community care and creative problem-solving in cannabis culture. Stop by to grab your recycled bag\, connect with like-minded environmentally conscious cannabis enthusiasts\, and support a brand that’s literally cleaning up the industry. Follow Weedcyclers /  Instagram to stay updated on their community initiatives. \n \n\n 
URL:https://mishasflowershop.com/event/weedcyclers-pre-earth-day-event-recycled-bags-from-ayrloom-packages-at-mishas/
LOCATION:NY
ATTACH;FMTTYPE=image/webp:https://mishasflowershop.com/wp-content/uploads/2026/04/vendor-logo.webp
END:VEVENT
BEGIN:VEVENT
DTSTART;TZID=America/New_York:20260420T160000
DTEND;TZID=America/New_York:20260420T200000
DTSTAMP:20260419T183252
CREATED:20260409T222504Z
LAST-MODIFIED:20260409T222504Z
UID:478-1776700800-1776715200@mishasflowershop.com
SUMMARY:4/20 Build A Bong Workshop! Free Cannabis Event in Bushwick
DESCRIPTION:We partnered with @skewville to bring you Build-a-Bong at Misha’s 💨✨ \nPull up\, get creative\, and leave with something uniquely yours. All you have to do is RSVP + bring a glass or ceramic bottle (12oz or larger if you can). \nLet’s make something dope together. \n21+ only \nRSVP Link  😮‍💨 \n \n\nAbout Misha’s Flower Shop: \nOpen Daily 9am-11pm 299 Knickerbocker Ave. Brooklyn\, NY 11237 \nFree Cannabis Delivery \nMisha’s Flower Shop is a Licensed Cannabis Dispensary proudly serving our neighbors in Brooklyn 21 and over. Thanks to the ongoing work of cannabis activists\, community members\, and the New York Office of Cannabis Management\, Misha’s opened its doors in May of 2024\, becoming one of the first\, and largest\, licensed dispensaries in the borough. With a 2500 square foot storefront in the heart of Bushwick and over 1100 products to choose from\, Misha’s can help you find just the right product for your needs. \nAlthough the Flower Shop itself may be new\, the founders are long-time cannabis connoisseurs\, as well as strong advocates for cannabis legalization and restorative justice. At Misha’s we believe that the healing and connecting power of the plant is unmatched\, and it continues to be a guiding light for all of us. We believe in both the medicinal and recreational uses of legal cannabis\, and are committed to sharing our knowledge and expertise with the community. We offer fast delivery in many parts of Brooklyn for a low minimum cart. Join us for our In-Store Vendor Event at Misha’s Flower Shop\, where we will showcase premium rosin and vapes\, reflecting our commitment to excellence in cannabis products. We invite you to explore our carefully curated selection\, designed to enhance both medicinal and recreational experiences for our valued customers.
URL:https://mishasflowershop.com/event/4-20-build-a-bong-workshop-free-cannabis-event-in-bushwick/
LOCATION:Misha’s Flower Shop Bushwick\, 299 Knickerbocker Ave.\, Brooklyn\, NY\, 11237\, United States
ATTACH;FMTTYPE=image/png:https://mishasflowershop.com/wp-content/uploads/2026/04/vendor-logo-scaled.png
END:VEVENT
BEGIN:VEVENT
DTSTART;TZID=America/New_York:20260423T120000
DTEND;TZID=America/New_York:20260423T150000
DTSTAMP:20260419T183252
CREATED:20260416T151419Z
LAST-MODIFIED:20260416T152541Z
UID:489-1776945600-1776956400@mishasflowershop.com
SUMMARY:Aeterna Cannabis In-Store Showcase at Misha's Flower Shop Brooklyn - April 23rd
DESCRIPTION:Join us on April 23rd\, 2026 from 12pm-3pm from to as Aeterna brings their cannabis collection to Misha’s Flower Shop in Brooklyn. This in-store vendor event showcases Aeterna’s carefully curated flower selection\, accessories\, and pre-rolls – products born from their unique brand philosophy and community-focused approach. Aeterna represents a new generation of cannabis cultivators who understand that quality comes from passion and authenticity\, not just cultivation techniques. Their team will be on-site to share the stories behind their strains\, discuss their growing practices\, and help you discover products that align with your cannabis journey. This is your chance to connect directly with the people behind the brand\, learn about their commitment to the cannabis community\, and explore their diverse product lineup in person. Whether you’re curious about their flower varieties\, interested in their accessory collection\, or looking to try their pre-rolls\, the Aeterna team will guide you through their offerings with genuine expertise and enthusiasm. Don’t miss this opportunity to discover what makes Aeterna special in Brooklyn’s vibrant cannabis scene. Follow Aeterna on Instagram for updates and behind-the-scenes content. \n \n\nAbout Misha’s Flower Shop: \nOpen Daily 9am-11pm 299 Knickerbocker Ave. Brooklyn\, NY 11237 \nFree Cannabis Delivery \nMisha’s Flower Shop is a Licensed Cannabis Dispensary proudly serving our neighbors in Brooklyn 21 and over. Thanks to the ongoing work of cannabis activists\, community members\, and the New York Office of Cannabis Management\, Misha’s opened its doors in May of 2024\, becoming one of the first\, and largest\, licensed dispensaries in the borough. With a 2500 square foot storefront in the heart of Bushwick and over 1100 products to choose from\, Misha’s can help you find just the right product for your needs. \nAlthough the Flower Shop itself may be new\, the founders are long-time cannabis connoisseurs\, as well as strong advocates for cannabis legalization and restorative justice. At Misha’s we believe that the healing and connecting power of the plant is unmatched\, and it continues to be a guiding light for all of us. We believe in both the medicinal and recreational uses of legal cannabis\, and are committed to sharing our knowledge and expertise with the community. We offer fast delivery in many parts of Brooklyn for a low minimum cart. Join us for our In-Store Vendor Event at Misha’s Flower Shop\, where we will showcase premium rosin and vapes\, reflecting our commitment to excellence in cannabis products. We invite you to explore our carefully curated selection\, designed to enhance both medicinal and recreational experiences for our valued customers.
URL:https://mishasflowershop.com/event/aeterna-cannabis-in-store-showcase-at-mishas-flower-shop-brooklyn-april-23rd/
LOCATION:Misha’s Flower Shop Bushwick\, 299 Knickerbocker Ave.\, Brooklyn\, NY\, 11237\, United States
ATTACH;FMTTYPE=image/jpeg:https://mishasflowershop.com/wp-content/uploads/2026/04/vendor-logo.jpg
END:VEVENT
BEGIN:VEVENT
DTSTART;TZID=America/New_York:20260427T180000
DTEND;TZID=America/New_York:20260427T220000
DTSTAMP:20260419T183252
CREATED:20260327T163407Z
LAST-MODIFIED:20260407T155825Z
UID:443-1777312800-1777327200@mishasflowershop.com
SUMMARY:Magic at Misha's – Monthly Game Night | Brooklyn Cannabis Dispensary
DESCRIPTION:Welcome to Magic at Misha’s — our monthly game night at Misha’s Flower Shop in Bushwick\, Brooklyn! \nEvery last Monday of the month\, we’re opening our doors for an evening of Magic: The Gathering\, community gaming\, and good energy. Whether you’re a seasoned player or totally new to the game\, come hang — our hosts are here to teach\, play\, and make it a great night. \nWhat to expect: Snacks\, games\, tunes\, and a welcoming crowd. New to Magic: The Gathering? No problem — learn the basics and jump in. Cannabis products are available for purchase in-store throughout the evening. \nEvent Details: 📅 Last Monday of every month 🗓 Next date: April 29th 6-10PM 📍 299 Knickerbocker Ave\, Brooklyn\, NY 🎟 Free Entry | RSVP recommended 🔞 21+ only \nCo-hosted with Diego (@dduhrssen). Tell a friend\, bring a friend. \n \n\nAbout Misha’s Flower Shop: \nOpen Daily 9am-11pm 299 Knickerbocker Ave. Brooklyn\, NY 11237 \nFree Cannabis Delivery \nMisha’s Flower Shop is a Licensed Cannabis Dispensary proudly serving our neighbors in Brooklyn 21 and over. Thanks to the ongoing work of cannabis activists\, community members\, and the New York Office of Cannabis Management\, Misha’s opened its doors in May of 2024\, becoming one of the first\, and largest\, licensed dispensaries in the borough. With a 2500 square foot storefront in the heart of Bushwick and over 600 products to choose from\, Misha’s can help you find just the right product for your needs. \nAlthough the Flower Shop itself may be new\, the founders are long-time cannabis connoisseurs\, as well as strong advocates for cannabis legalization and restorative justice. At Misha’s we believe that the healing and connecting power of the plant is unmatched\, and it continues to be a guiding light for all of us. We believe in both the medicinal and recreational uses of legal cannabis\, and are committed to sharing our knowledge and expertise with the community. We offer fast delivery in many parts of Brooklyn for a low minimum cart.
URL:https://mishasflowershop.com/event/magic-the-gathering-game-night-mishas/
LOCATION:Misha’s Flower Shop Bushwick\, 299 Knickerbocker Ave.\, Brooklyn\, NY\, 11237\, United States
END:VEVENT
END:VCALENDAR