BEGIN:VCALENDAR
VERSION:2.0
PRODID:-//Misha&#039;s Flower Shop - ECPv6.15.20//NONSGML v1.0//EN
CALSCALE:GREGORIAN
METHOD:PUBLISH
X-ORIGINAL-URL:https://mishasflowershop.com
X-WR-CALDESC:Events for Misha&#039;s Flower Shop
REFRESH-INTERVAL;VALUE=DURATION:PT1H
X-Robots-Tag:noindex
X-PUBLISHED-TTL:PT1H
BEGIN:VTIMEZONE
TZID:America/New_York
BEGIN:DAYLIGHT
TZOFFSETFROM:-0500
TZOFFSETTO:-0400
TZNAME:EDT
DTSTART:20250309T070000
END:DAYLIGHT
BEGIN:STANDARD
TZOFFSETFROM:-0400
TZOFFSETTO:-0500
TZNAME:EST
DTSTART:20251102T060000
END:STANDARD
BEGIN:DAYLIGHT
TZOFFSETFROM:-0500
TZOFFSETTO:-0400
TZNAME:EDT
DTSTART:20260308T070000
END:DAYLIGHT
BEGIN:STANDARD
TZOFFSETFROM:-0400
TZOFFSETTO:-0500
TZNAME:EST
DTSTART:20261101T060000
END:STANDARD
BEGIN:DAYLIGHT
TZOFFSETFROM:-0500
TZOFFSETTO:-0400
TZNAME:EDT
DTSTART:20270314T070000
END:DAYLIGHT
BEGIN:STANDARD
TZOFFSETFROM:-0400
TZOFFSETTO:-0500
TZNAME:EST
DTSTART:20271107T060000
END:STANDARD
END:VTIMEZONE
BEGIN:VEVENT
DTSTART;TZID=America/New_York:20260427T180000
DTEND;TZID=America/New_York:20260427T220000
DTSTAMP:20260419T215450
CREATED:20260327T163407Z
LAST-MODIFIED:20260407T155825Z
UID:443-1777312800-1777327200@mishasflowershop.com
SUMMARY:Magic at Misha's – Monthly Game Night | Brooklyn Cannabis Dispensary
DESCRIPTION:Welcome to Magic at Misha’s — our monthly game night at Misha’s Flower Shop in Bushwick\, Brooklyn! \nEvery last Monday of the month\, we’re opening our doors for an evening of Magic: The Gathering\, community gaming\, and good energy. Whether you’re a seasoned player or totally new to the game\, come hang — our hosts are here to teach\, play\, and make it a great night. \nWhat to expect: Snacks\, games\, tunes\, and a welcoming crowd. New to Magic: The Gathering? No problem — learn the basics and jump in. Cannabis products are available for purchase in-store throughout the evening. \nEvent Details: 📅 Last Monday of every month 🗓 Next date: April 29th 6-10PM 📍 299 Knickerbocker Ave\, Brooklyn\, NY 🎟 Free Entry | RSVP recommended 🔞 21+ only \nCo-hosted with Diego (@dduhrssen). Tell a friend\, bring a friend. \n \n\nAbout Misha’s Flower Shop: \nOpen Daily 9am-11pm 299 Knickerbocker Ave. Brooklyn\, NY 11237 \nFree Cannabis Delivery \nMisha’s Flower Shop is a Licensed Cannabis Dispensary proudly serving our neighbors in Brooklyn 21 and over. Thanks to the ongoing work of cannabis activists\, community members\, and the New York Office of Cannabis Management\, Misha’s opened its doors in May of 2024\, becoming one of the first\, and largest\, licensed dispensaries in the borough. With a 2500 square foot storefront in the heart of Bushwick and over 600 products to choose from\, Misha’s can help you find just the right product for your needs. \nAlthough the Flower Shop itself may be new\, the founders are long-time cannabis connoisseurs\, as well as strong advocates for cannabis legalization and restorative justice. At Misha’s we believe that the healing and connecting power of the plant is unmatched\, and it continues to be a guiding light for all of us. We believe in both the medicinal and recreational uses of legal cannabis\, and are committed to sharing our knowledge and expertise with the community. We offer fast delivery in many parts of Brooklyn for a low minimum cart.
URL:https://mishasflowershop.com/event/magic-the-gathering-game-night-mishas/
LOCATION:Misha’s Flower Shop Bushwick\, 299 Knickerbocker Ave.\, Brooklyn\, NY\, 11237\, United States
END:VEVENT
END:VCALENDAR