BEGIN:VCALENDAR
VERSION:2.0
PRODID:-//Misha&#039;s Flower Shop - ECPv6.15.20//NONSGML v1.0//EN
CALSCALE:GREGORIAN
METHOD:PUBLISH
X-WR-CALNAME:Misha&#039;s Flower Shop
X-ORIGINAL-URL:https://mishasflowershop.com
X-WR-CALDESC:Events for Misha&#039;s Flower Shop
REFRESH-INTERVAL;VALUE=DURATION:PT1H
X-Robots-Tag:noindex
X-PUBLISHED-TTL:PT1H
BEGIN:VTIMEZONE
TZID:America/New_York
BEGIN:DAYLIGHT
TZOFFSETFROM:-0500
TZOFFSETTO:-0400
TZNAME:EDT
DTSTART:20230312T070000
END:DAYLIGHT
BEGIN:STANDARD
TZOFFSETFROM:-0400
TZOFFSETTO:-0500
TZNAME:EST
DTSTART:20231105T060000
END:STANDARD
BEGIN:DAYLIGHT
TZOFFSETFROM:-0500
TZOFFSETTO:-0400
TZNAME:EDT
DTSTART:20240310T070000
END:DAYLIGHT
BEGIN:STANDARD
TZOFFSETFROM:-0400
TZOFFSETTO:-0500
TZNAME:EST
DTSTART:20241103T060000
END:STANDARD
BEGIN:DAYLIGHT
TZOFFSETFROM:-0500
TZOFFSETTO:-0400
TZNAME:EDT
DTSTART:20250309T070000
END:DAYLIGHT
BEGIN:STANDARD
TZOFFSETFROM:-0400
TZOFFSETTO:-0500
TZNAME:EST
DTSTART:20251102T060000
END:STANDARD
END:VTIMEZONE
BEGIN:VEVENT
DTSTART;TZID=America/New_York:20241212T100000
DTEND;TZID=America/New_York:20241212T140000
DTSTAMP:20260422T043025
CREATED:20241121T204739Z
LAST-MODIFIED:20241202T184633Z
UID:105-1733997600-1734012000@mishasflowershop.com
SUMMARY:Etain Pop-up
DESCRIPTION:Stop by to lean more about Etain’s cannabis products \nEtain Website \n 
URL:https://mishasflowershop.com/event/etain-pop-up/
LOCATION:Misha’s Flower Shop Bushwick\, 299 Knickerbocker Ave.\, Brooklyn\, NY\, 11237\, United States
END:VEVENT
BEGIN:VEVENT
DTSTART;TZID=America/New_York:20241207T110000
DTEND;TZID=America/New_York:20241207T130000
DTSTAMP:20260422T043025
CREATED:20241121T204842Z
LAST-MODIFIED:20241202T184247Z
UID:106-1733569200-1733576400@mishasflowershop.com
SUMMARY:Toast Activation
DESCRIPTION:Come down to Misha’s to learn about Toast cannabis products \nToast Cannabis
URL:https://mishasflowershop.com/event/toast/
LOCATION:Misha’s Flower Shop Bushwick\, 299 Knickerbocker Ave.\, Brooklyn\, NY\, 11237\, United States
END:VEVENT
BEGIN:VEVENT
DTSTART;TZID=America/New_York:20241206T130000
DTEND;TZID=America/New_York:20241206T160000
DTSTAMP:20260422T043025
CREATED:20241121T204001Z
LAST-MODIFIED:20241202T183834Z
UID:102-1733490000-1733500800@mishasflowershop.com
SUMMARY:Golden Garden Activation
DESCRIPTION:Come down to Misha’s to learn more about Golden Gardens cannabis from 1pm-4pm Friday December 6th. \nGolden Gardens Instagram
URL:https://mishasflowershop.com/event/golden-gardens/
LOCATION:Misha’s Flower Shop Bushwick\, 299 Knickerbocker Ave.\, Brooklyn\, NY\, 11237\, United States
END:VEVENT
END:VCALENDAR