BEGIN:VCALENDAR
VERSION:2.0
PRODID:-//Misha&#039;s Flower Shop - ECPv6.15.20//NONSGML v1.0//EN
CALSCALE:GREGORIAN
METHOD:PUBLISH
X-WR-CALNAME:Misha&#039;s Flower Shop
X-ORIGINAL-URL:https://mishasflowershop.com
X-WR-CALDESC:Events for Misha&#039;s Flower Shop
REFRESH-INTERVAL;VALUE=DURATION:PT1H
X-Robots-Tag:noindex
X-PUBLISHED-TTL:PT1H
BEGIN:VTIMEZONE
TZID:America/New_York
BEGIN:DAYLIGHT
TZOFFSETFROM:-0500
TZOFFSETTO:-0400
TZNAME:EDT
DTSTART:20240310T070000
END:DAYLIGHT
BEGIN:STANDARD
TZOFFSETFROM:-0400
TZOFFSETTO:-0500
TZNAME:EST
DTSTART:20241103T060000
END:STANDARD
BEGIN:DAYLIGHT
TZOFFSETFROM:-0500
TZOFFSETTO:-0400
TZNAME:EDT
DTSTART:20250309T070000
END:DAYLIGHT
BEGIN:STANDARD
TZOFFSETFROM:-0400
TZOFFSETTO:-0500
TZNAME:EST
DTSTART:20251102T060000
END:STANDARD
BEGIN:DAYLIGHT
TZOFFSETFROM:-0500
TZOFFSETTO:-0400
TZNAME:EDT
DTSTART:20260308T070000
END:DAYLIGHT
BEGIN:STANDARD
TZOFFSETFROM:-0400
TZOFFSETTO:-0500
TZNAME:EST
DTSTART:20261101T060000
END:STANDARD
END:VTIMEZONE
BEGIN:VEVENT
DTSTART;TZID=America/New_York:20250307T150000
DTEND;TZID=America/New_York:20250307T190000
DTSTAMP:20260419T111912
CREATED:20250224T191347Z
LAST-MODIFIED:20250224T191911Z
UID:159-1741359600-1741374000@mishasflowershop.com
SUMMARY:Ithaca Organics Pop Up
DESCRIPTION:Come by Misha’s to learn about Ithaca Organics Cannabis Products! \nIthaca Organics Website \n \n 
URL:https://mishasflowershop.com/event/ithacaorganics-pop-up/
LOCATION:Misha’s Flower Shop Bushwick\, 299 Knickerbocker Ave.\, Brooklyn\, NY\, 11237\, United States
END:VEVENT
BEGIN:VEVENT
DTSTART;TZID=America/New_York:20250313T110000
DTEND;TZID=America/New_York:20250313T140000
DTSTAMP:20260419T111912
CREATED:20250304T225229Z
LAST-MODIFIED:20250304T225229Z
UID:165-1741863600-1741874400@mishasflowershop.com
SUMMARY:Lowell Herb Co. Pop Up
DESCRIPTION:Come by Misha’s to learn about Lowell Herb Co.  cannabis products. \nLowell Website \n \n 
URL:https://mishasflowershop.com/event/lowell-herb-co-pop-up/
LOCATION:Misha’s Flower Shop Bushwick\, 299 Knickerbocker Ave.\, Brooklyn\, NY\, 11237\, United States
END:VEVENT
BEGIN:VEVENT
DTSTART;TZID=America/New_York:20250313T160000
DTEND;TZID=America/New_York:20250313T190000
DTSTAMP:20260419T111912
CREATED:20250116T041836Z
LAST-MODIFIED:20250304T224239Z
UID:139-1741881600-1741892400@mishasflowershop.com
SUMMARY:Wyld Pop-Up
DESCRIPTION:Come by Misha’s to learn about Wyld cannabis products. \nWyld Website \n \n 
URL:https://mishasflowershop.com/event/wyld-pop-up-2/
LOCATION:Misha’s Flower Shop Bushwick\, 299 Knickerbocker Ave.\, Brooklyn\, NY\, 11237\, United States
END:VEVENT
BEGIN:VEVENT
DTSTART;TZID=America/New_York:20250314T110000
DTEND;TZID=America/New_York:20250314T140000
DTSTAMP:20260419T111912
CREATED:20250311T164153Z
LAST-MODIFIED:20250311T164153Z
UID:168-1741950000-1741960800@mishasflowershop.com
SUMMARY:The Botanist Pop-Up
DESCRIPTION:Come by Misha’s to learn about The Botanist cannabis products. \nThe Botanist \n \n 
URL:https://mishasflowershop.com/event/the-botanist-pop-up-2/
LOCATION:Misha’s Flower Shop Bushwick\, 299 Knickerbocker Ave.\, Brooklyn\, NY\, 11237\, United States
END:VEVENT
BEGIN:VEVENT
DTSTART;TZID=America/New_York:20250315T130000
DTEND;TZID=America/New_York:20250315T160000
DTSTAMP:20260419T111912
CREATED:20250311T164549Z
LAST-MODIFIED:20250311T164549Z
UID:167-1742043600-1742054400@mishasflowershop.com
SUMMARY:Runtz Pop-Up
DESCRIPTION:Come by Misha’s to learn about Runtz cannabis products. \nRuntz Website \n \n 
URL:https://mishasflowershop.com/event/runtz-pop-up/
LOCATION:Misha’s Flower Shop Bushwick\, 299 Knickerbocker Ave.\, Brooklyn\, NY\, 11237\, United States
END:VEVENT
BEGIN:VEVENT
DTSTART;TZID=America/New_York:20250320T120000
DTEND;TZID=America/New_York:20250320T150000
DTSTAMP:20260419T111912
CREATED:20250320T054829Z
LAST-MODIFIED:20250320T054829Z
UID:171-1742472000-1742482800@mishasflowershop.com
SUMMARY:Olio Pop-Up
DESCRIPTION:Come by Misha’s to learn about Olio cannabis products. \nOlio Website \n \n 
URL:https://mishasflowershop.com/event/olio-pop-up/
LOCATION:Misha’s Flower Shop Bushwick\, 299 Knickerbocker Ave.\, Brooklyn\, NY\, 11237\, United States
END:VEVENT
BEGIN:VEVENT
DTSTART;TZID=America/New_York:20250320T160000
DTEND;TZID=America/New_York:20250320T190000
DTSTAMP:20260419T111912
CREATED:20250320T055052Z
LAST-MODIFIED:20250320T055052Z
UID:173-1742486400-1742497200@mishasflowershop.com
SUMMARY:Eaton Activation
DESCRIPTION:Come by Misha’s to learn about Eaton Botanicals cannabis products. \nEaton Website \n \n 
URL:https://mishasflowershop.com/event/eaton-pop-up-2/
LOCATION:Misha’s Flower Shop Bushwick\, 299 Knickerbocker Ave.\, Brooklyn\, NY\, 11237\, United States
END:VEVENT
BEGIN:VEVENT
DTSTART;TZID=America/New_York:20250321T160000
DTEND;TZID=America/New_York:20250321T190000
DTSTAMP:20260419T111912
CREATED:20250320T055355Z
LAST-MODIFIED:20250320T055355Z
UID:175-1742572800-1742583600@mishasflowershop.com
SUMMARY:Cannabals Pop Up
DESCRIPTION:Come by Misha’s to learn about Cannabals cannabis products. \nCannabals Website \n \n 
URL:https://mishasflowershop.com/event/cannabals-activation/
LOCATION:Misha’s Flower Shop Bushwick\, 299 Knickerbocker Ave.\, Brooklyn\, NY\, 11237\, United States
END:VEVENT
END:VCALENDAR