BEGIN:VCALENDAR
VERSION:2.0
PRODID:-//Misha&#039;s Flower Shop - ECPv6.15.20//NONSGML v1.0//EN
CALSCALE:GREGORIAN
METHOD:PUBLISH
X-WR-CALNAME:Misha&#039;s Flower Shop
X-ORIGINAL-URL:https://mishasflowershop.com
X-WR-CALDESC:Events for Misha&#039;s Flower Shop
REFRESH-INTERVAL;VALUE=DURATION:PT1H
X-Robots-Tag:noindex
X-PUBLISHED-TTL:PT1H
BEGIN:VTIMEZONE
TZID:America/New_York
BEGIN:DAYLIGHT
TZOFFSETFROM:-0500
TZOFFSETTO:-0400
TZNAME:EDT
DTSTART:20240310T070000
END:DAYLIGHT
BEGIN:STANDARD
TZOFFSETFROM:-0400
TZOFFSETTO:-0500
TZNAME:EST
DTSTART:20241103T060000
END:STANDARD
BEGIN:DAYLIGHT
TZOFFSETFROM:-0500
TZOFFSETTO:-0400
TZNAME:EDT
DTSTART:20250309T070000
END:DAYLIGHT
BEGIN:STANDARD
TZOFFSETFROM:-0400
TZOFFSETTO:-0500
TZNAME:EST
DTSTART:20251102T060000
END:STANDARD
BEGIN:DAYLIGHT
TZOFFSETFROM:-0500
TZOFFSETTO:-0400
TZNAME:EDT
DTSTART:20260308T070000
END:DAYLIGHT
BEGIN:STANDARD
TZOFFSETFROM:-0400
TZOFFSETTO:-0500
TZNAME:EST
DTSTART:20261101T060000
END:STANDARD
END:VTIMEZONE
BEGIN:VEVENT
DTSTART;TZID=America/New_York:20251003T160000
DTEND;TZID=America/New_York:20251003T190000
DTSTAMP:20260419T132741
CREATED:20250930T210854Z
LAST-MODIFIED:20250930T210854Z
UID:278-1759507200-1759518000@mishasflowershop.com
SUMMARY:Joke 'N Toke Pop Up
DESCRIPTION:Come by Misha’s to learn about Joke ‘N Toke Cannabis Products \nThursday October 2nd 4pm-7pm \n\nJoke N Toke Products at Misha’s \n\nThe premium pre-roll that actually hits different\nWhy choose between getting lit and having fun? With three sources of THC in every pipe and three wicked jokes in every pack\, Joke ’n Toke keeps the vibe going long after the first puff. Clean glass\, big hits\, and a little humor — that’s our secret recipe. \nDouble Infused and Three Sources of THC in Every Pipe!\nMeet the pre-roll that refuses to roll. Instead of paper and ash\, we pack premium Hudson Valley flower\, rich bubble hash\, and pure concentrate into sleek\, reloadable\, recyclable glass chillums. Each one is sealed with a natural cork — so you can hit it\, re-cork it\, and slip it back in your pocket without bringing the smoke to dinner. \nThe More You Smoke \, the Funnier We Get\nEvery Joke ’n Toke Single comes with a card packed with three wicked jokes. Some are homegrown\, some handpicked — all are refined by a professional comedy writer (half of the duo that invented Joke ’n Toke in the first place). \nAnd here’s the kicker: New York State requires our jokes include NSFW humor. Not a joke — it’s the law. Whether you’re amusing yourself or making your friends laugh\, we’ve got humor that hits just as hard as the smoke. \nJoke and Toke Website
URL:https://mishasflowershop.com/event/joke-n-toke/
LOCATION:Misha’s Flower Shop Bushwick\, 299 Knickerbocker Ave.\, Brooklyn\, NY\, 11237\, United States
END:VEVENT
BEGIN:VEVENT
DTSTART;TZID=America/New_York:20251010T170000
DTEND;TZID=America/New_York:20251010T190000
DTSTAMP:20260419T132741
CREATED:20251010T201600Z
LAST-MODIFIED:20251010T201856Z
UID:282-1760115600-1760122800@mishasflowershop.com
SUMMARY:Candle Making Terp Class w/ Wana + Botanist
DESCRIPTION:Join us for terpene candle making class sponsored by Wana and The Botanist \nOctober 10th 5pm-7pm \nBlend Aromatics and learn about terpenes and bring home your own candle 🙂 \nAll materials provided! \nWana Products at Misha’s \nThe Botanist Products at Misha’s \n \n 
URL:https://mishasflowershop.com/event/candle-making-class/
LOCATION:Misha’s Flower Shop Bushwick\, 299 Knickerbocker Ave.\, Brooklyn\, NY\, 11237\, United States
END:VEVENT
BEGIN:VEVENT
DTSTART;TZID=America/New_York:20251012T093000
DTEND;TZID=America/New_York:20251012T103000
DTSTAMP:20260419T132741
CREATED:20251010T201842Z
LAST-MODIFIED:20251010T201842Z
UID:287-1760261400-1760265000@mishasflowershop.com
SUMMARY:High Yoga at Misha's!
DESCRIPTION:Come by Misha’s to do some high yoga! \nJoin High Yoga for our elevated class in Bushwick with our pals over at Misha’s Flower Shop. Tap in join us for a morning focused around self love. Our class will be an all levels elevated yoga class fit for everyone 21+. Dress cozy and just bring yourself\, yoga mats and blocks will be provided for you. \nHigh Yoga RSVP Link \nOctober 12th at 930 am
URL:https://mishasflowershop.com/event/high-yoga-at-mishas-2/
LOCATION:Misha’s Flower Shop Bushwick\, 299 Knickerbocker Ave.\, Brooklyn\, NY\, 11237\, United States
END:VEVENT
BEGIN:VEVENT
DTSTART;TZID=America/New_York:20251023T150000
DTEND;TZID=America/New_York:20251023T190000
DTSTAMP:20260419T132741
CREATED:20251022T193616Z
LAST-MODIFIED:20251022T193616Z
UID:290-1761231600-1761246000@mishasflowershop.com
SUMMARY:Blaze and Bedazzle Pumpkin Decorating
DESCRIPTION:Come by Misha’s to do Pumpkin decorating for Halloween! \nCraft a cute pumpkin with The Bettering Company (The Bettering Company Products at Misha’s!) \nNo RSVP needed – Materials Provided! \nOctober 23rd 3pm-7pm
URL:https://mishasflowershop.com/event/blaze-and-bedazzle/
LOCATION:Misha’s Flower Shop Bushwick\, 299 Knickerbocker Ave.\, Brooklyn\, NY\, 11237\, United States
END:VEVENT
END:VCALENDAR