BEGIN:VCALENDAR
VERSION:2.0
PRODID:-//Misha&#039;s Flower Shop - ECPv6.15.20//NONSGML v1.0//EN
CALSCALE:GREGORIAN
METHOD:PUBLISH
X-WR-CALNAME:Misha&#039;s Flower Shop
X-ORIGINAL-URL:https://mishasflowershop.com
X-WR-CALDESC:Events for Misha&#039;s Flower Shop
REFRESH-INTERVAL;VALUE=DURATION:PT1H
X-Robots-Tag:noindex
X-PUBLISHED-TTL:PT1H
BEGIN:VTIMEZONE
TZID:America/New_York
BEGIN:DAYLIGHT
TZOFFSETFROM:-0500
TZOFFSETTO:-0400
TZNAME:EDT
DTSTART:20240310T070000
END:DAYLIGHT
BEGIN:STANDARD
TZOFFSETFROM:-0400
TZOFFSETTO:-0500
TZNAME:EST
DTSTART:20241103T060000
END:STANDARD
BEGIN:DAYLIGHT
TZOFFSETFROM:-0500
TZOFFSETTO:-0400
TZNAME:EDT
DTSTART:20250309T070000
END:DAYLIGHT
BEGIN:STANDARD
TZOFFSETFROM:-0400
TZOFFSETTO:-0500
TZNAME:EST
DTSTART:20251102T060000
END:STANDARD
BEGIN:DAYLIGHT
TZOFFSETFROM:-0500
TZOFFSETTO:-0400
TZNAME:EDT
DTSTART:20260308T070000
END:DAYLIGHT
BEGIN:STANDARD
TZOFFSETFROM:-0400
TZOFFSETTO:-0500
TZNAME:EST
DTSTART:20261101T060000
END:STANDARD
END:VTIMEZONE
BEGIN:VEVENT
DTSTART;TZID=America/New_York:20251109T093000
DTEND;TZID=America/New_York:20251109T110000
DTSTAMP:20260419T132959
CREATED:20251023T183131Z
LAST-MODIFIED:20251023T183131Z
UID:292-1762680600-1762686000@mishasflowershop.com
SUMMARY:High Yoga at Misha's!
DESCRIPTION:Come by Misha’s to do some high yoga! \nJoin High Yoga for our elevated class in Bushwick with our pals over at Misha’s Flower Shop. Tap in join us for a morning focused around self love. Our class will be an all levels elevated yoga class fit for everyone 21+. Dress cozy and just bring yourself\, yoga mats and blocks will be provided for you. \nHigh Yoga RSVP Link \nNovember 9th at 945 am
URL:https://mishasflowershop.com/event/high-yoga-at-mishas-3/
LOCATION:Misha’s Flower Shop Bushwick\, 299 Knickerbocker Ave.\, Brooklyn\, NY\, 11237\, United States
END:VEVENT
END:VCALENDAR